BEGIN:VCALENDAR
VERSION:2.0
PRODID:-//Department Of Education//1b7b0b12-a29b-4acc-9e70-f8c615e83b08
BEGIN:VTIMEZONE
TZID:Australia/Sydney
TZURL:http://tzurl.org/zoneinfo-outlook/Australia/Sydney
X-LIC-LOCATION:Australia/Sydney
BEGIN:STANDARD
TZOFFSETFROM:+1100
TZOFFSETTO:+1000
TZNAME:AEST
DTSTART:19700405T030000
RRULE:FREQ=YEARLY;BYMONTH=4;BYDAY=1SU
END:STANDARD
BEGIN:DAYLIGHT
TZOFFSETFROM:+1000
TZOFFSETTO:+1100
TZNAME:AEDT
DTSTART:19701004T020000
RRULE:FREQ=YEARLY;BYMONTH=10;BYDAY=1SU
END:DAYLIGHT
END:VTIMEZONE
CALSCALE:GREGORIAN
X-WR-TIMEZONE:Australia/Sydney
BEGIN:VEVENT
DTSTART;VALUE=DATE:20200301
DTEND;VALUE=DATE:20200302
DTSTAMP:20200301T000000Z
UID:4fe5c41b-dc34-4464-8efb-741821d88850
LOCATION:Wingdang Foreshore Park, Wingdang
SUMMARY;LANGUAGE=en-us:Let's go fishing
SEQUENCE:0
DESCRIPTION:It's time to join your school community fishing club. Can you fish?  Would you like to fish?  Don't worry, we will provide the gear and training. There will be bragging rights for... the first fish caught largest fish caught most fish caught BBQ lunch will be provided.
END:VEVENT
TRANSP:TRANSPARENT
END:VCALENDAR
