BEGIN:VCALENDAR
VERSION:2.0
PRODID:-//Department Of Education//401cb188-a8e8-40b8-9b10-a2eef667c924
BEGIN:VTIMEZONE
TZID:Australia/Sydney
TZURL:http://tzurl.org/zoneinfo-outlook/Australia/Sydney
X-LIC-LOCATION:Australia/Sydney
BEGIN:STANDARD
TZOFFSETFROM:+1100
TZOFFSETTO:+1000
TZNAME:AEST
DTSTART:19700405T030000
RRULE:FREQ=YEARLY;BYMONTH=4;BYDAY=1SU
END:STANDARD
BEGIN:DAYLIGHT
TZOFFSETFROM:+1000
TZOFFSETTO:+1100
TZNAME:AEDT
DTSTART:19701004T020000
RRULE:FREQ=YEARLY;BYMONTH=10;BYDAY=1SU
END:DAYLIGHT
END:VTIMEZONE
CALSCALE:GREGORIAN
X-WR-TIMEZONE:Australia/Sydney
BEGIN:VEVENT
DTSTART;VALUE=DATE:20200227
DTEND;VALUE=DATE:20200306
DTSTAMP:20200227T000000Z
UID:65b634e0-ec1f-41df-bb5e-06b3ab41ce20
LOCATION:School
SUMMARY;LANGUAGE=en-us:REMINDER - payments due for school photos
SEQUENCE:0
DESCRIPTION:Online Payment - preferred method of payment Late payments must be made online only. Cash will NOT be accepted by the school office after 5 March 2020. Late payments - 7 days only Late payments will be accepted for 7 days (up until 14 March 2020) before a late fee is incurred.  Late payments must be made online only.  Cash will NOT be accepted by the school office after 5 March 2020. Return envelope? YES, if you wish to make a purchase  (including online orders) Return envelope?. NO, if you don't wish to make a purchase  Ooops... I lost my envelope A LIMITED supply of blank envelopes will be available from the office.  If you wish to purchase photos, you will need to collect a blank envelope from the office and write your child's details CLEARLY on the front.
END:VEVENT
TRANSP:TRANSPARENT
END:VCALENDAR
