BEGIN:VCALENDAR
VERSION:2.0
PRODID:-//Department Of Education//7f1e7d2f-bb2a-4182-bc06-fb62da40d8b7
BEGIN:VTIMEZONE
TZID:Australia/Sydney
TZURL:http://tzurl.org/zoneinfo-outlook/Australia/Sydney
X-LIC-LOCATION:Australia/Sydney
BEGIN:STANDARD
TZOFFSETFROM:+1100
TZOFFSETTO:+1000
TZNAME:AEST
DTSTART:19700405T030000
RRULE:FREQ=YEARLY;BYMONTH=4;BYDAY=1SU
END:STANDARD
BEGIN:DAYLIGHT
TZOFFSETFROM:+1000
TZOFFSETTO:+1100
TZNAME:AEDT
DTSTART:19701004T020000
RRULE:FREQ=YEARLY;BYMONTH=10;BYDAY=1SU
END:DAYLIGHT
END:VTIMEZONE
CALSCALE:GREGORIAN
X-WR-TIMEZONE:Australia/Sydney
BEGIN:VEVENT
DTSTART;VALUE=DATE:20200227
DTEND;VALUE=DATE:20200306
DTSTAMP:20200227T000000Z
UID:4160bf8e-d65d-419f-8ccb-57d1c031b129
LOCATION:Office payment box
SUMMARY;LANGUAGE=en-us:REMINDER ? Payment due for PSSA summer gala day No.1
SEQUENCE:0
DESCRIPTION:Reminder - payment for PSSA gala day 1 due no later than 3pm on Thursday, 5 March 2020 Payment deadlines are essential to ensure we are able to provide accurate final numbers to bus companies and venues. Late payments will only be accepted if arrangements prior to today have been made with the office. Please note that if paying via POP, payments are received by the office the following day, provided you pay before 5pm.  If you pay after 5pm, payments are not received until 2 days later.  Therefore, you will need to pay 1-2 days earlier than due date to ensure your payment is received on time. Summer PSSA Gala Day Information (Term 1 and 4) (PDF 105 KB) Summer PSSA Gala Day Contract (PDF 180 KB) - must be signed and returned Cricket Coach - Miss Silva Venue - Jackson Park, Woodbine Permission and payment note (PDF 219 KB) - must be signed and returned Softball Coach - Mrs Lockhart Venue - Milton Park, Ingleburn Permission and payment note (PDF 218 KB) - must be signed and returned Teeball Coach - Miss Moisy Venue - Jackson Park, Woodbine Permission and payment note (PDF 213 KB) - must be signed and returned Tiger Tag Girls Coach - Miss McDonald Boys Coach - Mrs Warren Venue - Eschol Park Playing Fields Permission and payment note (PDF 215 KB) - must be signed and returned
END:VEVENT
TRANSP:TRANSPARENT
END:VCALENDAR
